BEGIN:VCALENDAR
VERSION:2.0
PRODID:-//Great Commission Artists - ECPv6.15.20//NONSGML v1.0//EN
CALSCALE:GREGORIAN
METHOD:PUBLISH
X-WR-CALNAME:Great Commission Artists
X-ORIGINAL-URL:https://greatcommissionartists.com
X-WR-CALDESC:Events for Great Commission Artists
REFRESH-INTERVAL;VALUE=DURATION:PT1H
X-Robots-Tag:noindex
X-PUBLISHED-TTL:PT1H
BEGIN:VTIMEZONE
TZID:America/Chicago
BEGIN:DAYLIGHT
TZOFFSETFROM:-0600
TZOFFSETTO:-0500
TZNAME:CDT
DTSTART:20220313T080000
END:DAYLIGHT
BEGIN:STANDARD
TZOFFSETFROM:-0500
TZOFFSETTO:-0600
TZNAME:CST
DTSTART:20221106T070000
END:STANDARD
BEGIN:DAYLIGHT
TZOFFSETFROM:-0600
TZOFFSETTO:-0500
TZNAME:CDT
DTSTART:20230312T080000
END:DAYLIGHT
BEGIN:STANDARD
TZOFFSETFROM:-0500
TZOFFSETTO:-0600
TZNAME:CST
DTSTART:20231105T070000
END:STANDARD
BEGIN:DAYLIGHT
TZOFFSETFROM:-0600
TZOFFSETTO:-0500
TZNAME:CDT
DTSTART:20240310T080000
END:DAYLIGHT
BEGIN:STANDARD
TZOFFSETFROM:-0500
TZOFFSETTO:-0600
TZNAME:CST
DTSTART:20241103T070000
END:STANDARD
END:VTIMEZONE
BEGIN:VEVENT
DTSTART;VALUE=DATE:20230406
DTEND;VALUE=DATE:20230507
DTSTAMP:20260425T204156
CREATED:20220811T231816Z
LAST-MODIFIED:20220830T002556Z
UID:3261-1680739200-1683417599@greatcommissionartists.com
SUMMARY:"The God Who Sees Exhibit" at Shepherd of the Hill Church
DESCRIPTION:145 Engler Blvd.\, Chaska
URL:https://greatcommissionartists.com/event/the-god-who-sees-exhibit-at-shepherd-of-the-hill-church/
LOCATION:Shepherd of the Hill\, 145 Engler Blvd.\, Chaska\, MN\, 55318\, United States
ORGANIZER;CN="Marianne McDonough":MAILTO:greatcommissionartists@gmail.com
END:VEVENT
END:VCALENDAR