BEGIN:VCALENDAR
VERSION:2.0
PRODID:-//Great Commission Artists - ECPv6.15.20//NONSGML v1.0//EN
CALSCALE:GREGORIAN
METHOD:PUBLISH
X-WR-CALNAME:Great Commission Artists
X-ORIGINAL-URL:https://greatcommissionartists.com
X-WR-CALDESC:Events for Great Commission Artists
REFRESH-INTERVAL;VALUE=DURATION:PT1H
X-Robots-Tag:noindex
X-PUBLISHED-TTL:PT1H
BEGIN:VTIMEZONE
TZID:America/Chicago
BEGIN:DAYLIGHT
TZOFFSETFROM:-0600
TZOFFSETTO:-0500
TZNAME:CDT
DTSTART:20220313T080000
END:DAYLIGHT
BEGIN:STANDARD
TZOFFSETFROM:-0500
TZOFFSETTO:-0600
TZNAME:CST
DTSTART:20221106T070000
END:STANDARD
BEGIN:DAYLIGHT
TZOFFSETFROM:-0600
TZOFFSETTO:-0500
TZNAME:CDT
DTSTART:20230312T080000
END:DAYLIGHT
BEGIN:STANDARD
TZOFFSETFROM:-0500
TZOFFSETTO:-0600
TZNAME:CST
DTSTART:20231105T070000
END:STANDARD
BEGIN:DAYLIGHT
TZOFFSETFROM:-0600
TZOFFSETTO:-0500
TZNAME:CDT
DTSTART:20240310T080000
END:DAYLIGHT
BEGIN:STANDARD
TZOFFSETFROM:-0500
TZOFFSETTO:-0600
TZNAME:CST
DTSTART:20241103T070000
END:STANDARD
END:VTIMEZONE
BEGIN:VEVENT
DTSTART;VALUE=DATE:20230821
DTEND;VALUE=DATE:20230928
DTSTAMP:20260425T142329
CREATED:20230822T013736Z
LAST-MODIFIED:20230822T170315Z
UID:4376-1692576000-1695859199@greatcommissionartists.com
SUMMARY:"In God's Hands" Exhibit at Southwest Christian High School
DESCRIPTION:1981 Bavaria Rd\, Chaska
URL:https://greatcommissionartists.com/event/in-gods-hands-exhibit-at-southwest-christian-high-school/
LOCATION:Southwest Christian High School\, 1981 Bavaria Road\, Chaska\, MN\, 55318\, United States
ORGANIZER;CN="Marianne McDonough":MAILTO:greatcommissionartists@gmail.com
END:VEVENT
END:VCALENDAR