BEGIN:VCALENDAR
VERSION:2.0
PRODID:-//Great Commission Artists - ECPv6.15.20//NONSGML v1.0//EN
CALSCALE:GREGORIAN
METHOD:PUBLISH
X-WR-CALNAME:Great Commission Artists
X-ORIGINAL-URL:https://greatcommissionartists.com
X-WR-CALDESC:Events for Great Commission Artists
REFRESH-INTERVAL;VALUE=DURATION:PT1H
X-Robots-Tag:noindex
X-PUBLISHED-TTL:PT1H
BEGIN:VTIMEZONE
TZID:America/Chicago
BEGIN:DAYLIGHT
TZOFFSETFROM:-0600
TZOFFSETTO:-0500
TZNAME:CDT
DTSTART:20220313T080000
END:DAYLIGHT
BEGIN:STANDARD
TZOFFSETFROM:-0500
TZOFFSETTO:-0600
TZNAME:CST
DTSTART:20221106T070000
END:STANDARD
BEGIN:DAYLIGHT
TZOFFSETFROM:-0600
TZOFFSETTO:-0500
TZNAME:CDT
DTSTART:20230312T080000
END:DAYLIGHT
BEGIN:STANDARD
TZOFFSETFROM:-0500
TZOFFSETTO:-0600
TZNAME:CST
DTSTART:20231105T070000
END:STANDARD
BEGIN:DAYLIGHT
TZOFFSETFROM:-0600
TZOFFSETTO:-0500
TZNAME:CDT
DTSTART:20240310T080000
END:DAYLIGHT
BEGIN:STANDARD
TZOFFSETFROM:-0500
TZOFFSETTO:-0600
TZNAME:CST
DTSTART:20241103T070000
END:STANDARD
BEGIN:DAYLIGHT
TZOFFSETFROM:-0600
TZOFFSETTO:-0500
TZNAME:CDT
DTSTART:20250309T080000
END:DAYLIGHT
BEGIN:STANDARD
TZOFFSETFROM:-0500
TZOFFSETTO:-0600
TZNAME:CST
DTSTART:20251102T070000
END:STANDARD
END:VTIMEZONE
BEGIN:VEVENT
DTSTART;VALUE=DATE:20231101
DTEND;VALUE=DATE:20231130
DTSTAMP:20260425T110804
CREATED:20230822T014452Z
LAST-MODIFIED:20230822T014452Z
UID:4378-1698796800-1701302399@greatcommissionartists.com
SUMMARY:"In God's Hands" Exhibit at Calvary Christian Reformed Church
DESCRIPTION:5300 France Ave. S.\, Edina
URL:https://greatcommissionartists.com/event/in-gods-hands-exhibit-at-calvary-christian-reformed-church/
LOCATION:Calvary Christian Reformed Church\, 5300 France Ave. S.\, Edina\, MN\, 55410
ORGANIZER;CN="Marianne McDonough":MAILTO:greatcommissionartists@gmail.com
END:VEVENT
BEGIN:VEVENT
DTSTART;VALUE=DATE:20231130
DTEND;VALUE=DATE:20240104
DTSTAMP:20260425T110804
CREATED:20230822T015552Z
LAST-MODIFIED:20230822T015552Z
UID:4380-1701302400-1704326399@greatcommissionartists.com
SUMMARY:"In God's Hands" Exhibit at Faith Presbyterian Church in Minnetonka
DESCRIPTION:12007 Excelsior Blvd.\, Minnetonka
URL:https://greatcommissionartists.com/event/in-gods-hands-exhibit-at-faith-presbyterian-church-in-minnetonka/
LOCATION:Faith Presbyterian Church\, 12007 Excelsior Blvd.\, Minnetonka\, MN
ORGANIZER;CN="Marianne McDonough":MAILTO:greatcommissionartists@gmail.com
END:VEVENT
END:VCALENDAR