BEGIN:VCALENDAR
VERSION:2.0
PRODID:-//Great Commission Artists - ECPv6.15.20//NONSGML v1.0//EN
CALSCALE:GREGORIAN
METHOD:PUBLISH
X-ORIGINAL-URL:https://greatcommissionartists.com
X-WR-CALDESC:Events for Great Commission Artists
REFRESH-INTERVAL;VALUE=DURATION:PT1H
X-Robots-Tag:noindex
X-PUBLISHED-TTL:PT1H
BEGIN:VTIMEZONE
TZID:America/Chicago
BEGIN:DAYLIGHT
TZOFFSETFROM:-0600
TZOFFSETTO:-0500
TZNAME:CDT
DTSTART:20240310T080000
END:DAYLIGHT
BEGIN:STANDARD
TZOFFSETFROM:-0500
TZOFFSETTO:-0600
TZNAME:CST
DTSTART:20241103T070000
END:STANDARD
BEGIN:DAYLIGHT
TZOFFSETFROM:-0600
TZOFFSETTO:-0500
TZNAME:CDT
DTSTART:20250309T080000
END:DAYLIGHT
BEGIN:STANDARD
TZOFFSETFROM:-0500
TZOFFSETTO:-0600
TZNAME:CST
DTSTART:20251102T070000
END:STANDARD
BEGIN:DAYLIGHT
TZOFFSETFROM:-0600
TZOFFSETTO:-0500
TZNAME:CDT
DTSTART:20260308T080000
END:DAYLIGHT
BEGIN:STANDARD
TZOFFSETFROM:-0500
TZOFFSETTO:-0600
TZNAME:CST
DTSTART:20261101T070000
END:STANDARD
END:VTIMEZONE
BEGIN:VEVENT
DTSTART;VALUE=DATE:20250226
DTEND;VALUE=DATE:20250417
DTSTAMP:20260424T083636
CREATED:20240816T213209Z
LAST-MODIFIED:20250210T220138Z
UID:5604-1740528000-1744847999@greatcommissionartists.com
SUMMARY:"Show Us Your Glory Exhibition" at First Presbyterian Church\, South St. Paul\, MN
DESCRIPTION:
URL:https://greatcommissionartists.com/event/show-us-your-glory-exhibition-at-first-presbyterian-church-south-st-paul-mn/
LOCATION:First Presbyterian Church South St. Paul\, 535 20th Ave. N.\, South St. Paul\, MN\, 55075\, United States
ORGANIZER;CN="Marianne McDonough":MAILTO:greatcommissionartists@gmail.com
END:VEVENT
BEGIN:VEVENT
DTSTART;VALUE=DATE:20250430
DTEND;VALUE=DATE:20250611
DTSTAMP:20260424T083636
CREATED:20240816T213644Z
LAST-MODIFIED:20250210T220040Z
UID:5606-1745971200-1749599999@greatcommissionartists.com
SUMMARY:"Show Us Your Glory" Exhibition at Shepherd of the Hill Church\, Chaska\, MN
DESCRIPTION:
URL:https://greatcommissionartists.com/event/show-us-your-glory-exhibition-at-shepherd-of-the-hill-church-chaska-mn/
LOCATION:Shepherd of the Hill\, 145 Engler Blvd.\, Chaska\, MN\, 55318\, United States
END:VEVENT
END:VCALENDAR